BEGIN:VCALENDAR
VERSION:2.0
METHOD:PUBLISH
PRODID:-//Agenda.ad//NONSGML v1.0//EN
BEGIN:VEVENT
CLASS:PUBLIC
UID:241dcce79c66d543b787b8bdfd70e84a@agenda.ad
DTSTAMP:20260422T043411Z
DTSTART:20190207T230000Z
DTEND:20190207T230000Z
SUMMARY:Dijous d'humor &middot; 'La vida moderna'
DESCRIPTION:\n\nMés informació\nhttps://www.agenda.ad/activitat/andorr
 a-la-vella/mes-cultura/dijous-d-humor-la-vida-moderna-\n\n\n
 Organitza\nQuelcom Andorra
LOCATION:Centre de Congressos d'Andorra la Vella
SEQUENCE:0
TRANSP:OPAQUE
X-ALT-DESC;FMTTYPE=text/html:<!DOCTYPE HTML PUBLIC "-//W3C//DTD HTML 3.2//EN"><HTML><HEAD
 ><TITLE></TITLE></HEAD><BODY><FONT FACE="Arial" SIZE=2><br/>
 <br/><b>Més informació</b><br/><a href="https://www.agenda
 .ad/activitat/andorra-la-vella/mes-cultura/dijous-d-humor-la
 -vida-moderna-">https://www.agenda.ad/activitat/andorra-la-v
 ella/mes-cultura/dijous-d-humor-la-vida-moderna-</a><br/><br
 /><br/><b>Organitza</b><br/>Quelcom Andorra</FONT></BODY></H
 TML>
END:VEVENT
END:VCALENDAR