BEGIN:VCALENDAR
VERSION:2.0
METHOD:PUBLISH
PRODID:-//Agenda.ad//NONSGML v1.0//EN
BEGIN:VEVENT
CLASS:PUBLIC
UID:ac5211193fab1bed31a6730f8b0bdba4@agenda.ad
DTSTAMP:20260419T201859Z
DTSTART:20260227T230000Z
DTEND:20260227T230000Z
SUMMARY:Ecstatic Dance
DESCRIPTION:\n\nMés informació\nhttps://www.agenda.ad/activitat/andorr
 a-la-vella/musica/ecstatic-dance-23603\n\n\nOrganitza\nAssoc
 iació Cultural Momentum
LOCATION:Centre Esportiu Els Serradells
SEQUENCE:0
TRANSP:OPAQUE
X-ALT-DESC;FMTTYPE=text/html:<!DOCTYPE HTML PUBLIC "-//W3C//DTD HTML 3.2//EN"><HTML><HEAD
 ><TITLE></TITLE></HEAD><BODY><FONT FACE="Arial" SIZE=2><br/>
 <br/><b>Més informació</b><br/><a href="https://www.agenda
 .ad/activitat/andorra-la-vella/musica/ecstatic-dance-23603">
 https://www.agenda.ad/activitat/andorra-la-vella/musica/ecst
 atic-dance-23603</a><br/><br/><br/><b>Organitza</b><br/>Asso
 ciació Cultural Momentum</FONT></BODY></HTML>
END:VEVENT
END:VCALENDAR