BEGIN:VCALENDAR
VERSION:2.0
METHOD:PUBLISH
PRODID:-//Agenda.ad//NONSGML v1.0//EN
BEGIN:VEVENT
CLASS:PUBLIC
UID:d6a9c0d7d1714ddd44f8c79071a3d03e@agenda.ad
DTSTAMP:20260424T072452Z
DTSTART:20191218T230000Z
DTEND:20191218T230000Z
SUMMARY:Hard Rock Cafe concerts &middot; Relative Music
DESCRIPTION:\n\nMés informació\nhttps://www.agenda.ad/activitat/andorr
 a-la-vella/musica/hard-rock-cafe-concerts-relative-music-113
 43\nMés informació, aquí. \n\nOrga
 nitza\nHard Rock Cafe Andorra
LOCATION:Hard Rock Cafè
SEQUENCE:0
TRANSP:OPAQUE
X-ALT-DESC;FMTTYPE=text/html:<!DOCTYPE HTML PUBLIC "-//W3C//DTD HTML 3.2//EN"><HTML><HEAD
 ><TITLE></TITLE></HEAD><BODY><FONT FACE="Arial" SIZE=2><br/>
 <br/><b>Més informació</b><br/><a href="https://www.agenda
 .ad/activitat/andorra-la-vella/musica/hard-rock-cafe-concert
 s-relative-music-11343">https://www.agenda.ad/activitat/ando
 rra-la-vella/musica/hard-rock-cafe-concerts-relative-music-1
 1343</a><br/>M&eacute;s informaci&oacute;, aqu&iacute;.&nbsp
 ;<br/><br/><b>Organitza</b><br/>Hard Rock Cafe Andorra</FONT
 ></BODY></HTML>
END:VEVENT
END:VCALENDAR