BEGIN:VCALENDAR
VERSION:2.0
METHOD:PUBLISH
PRODID:-//Agenda.ad//NONSGML v1.0//EN
BEGIN:VEVENT
CLASS:PUBLIC
UID:8ed4253778233043f823f23bb8800b3b@agenda.ad
DTSTAMP:20260422T015958Z
DTSTART:20191010T220000Z
DTEND:20191010T220000Z
SUMMARY:Hard Rock Cafe concerts &middot; The Saved Velvet
DESCRIPTION:\n\nMés informació\nhttps://www.agenda.ad/activitat/andorr
 a-la-vella/musica/hard-rock-cafe-concerts-the-saved-velvet\n
 Més informació, aquí. \n\nOrganitz
 a\nHard Rock Cafe Andorra
LOCATION:Hard Rock Cafè
SEQUENCE:0
TRANSP:OPAQUE
X-ALT-DESC;FMTTYPE=text/html:<!DOCTYPE HTML PUBLIC "-//W3C//DTD HTML 3.2//EN"><HTML><HEAD
 ><TITLE></TITLE></HEAD><BODY><FONT FACE="Arial" SIZE=2><br/>
 <br/><b>Més informació</b><br/><a href="https://www.agenda
 .ad/activitat/andorra-la-vella/musica/hard-rock-cafe-concert
 s-the-saved-velvet">https://www.agenda.ad/activitat/andorra-
 la-vella/musica/hard-rock-cafe-concerts-the-saved-velvet</a>
 <br/>M&eacute;s informaci&oacute;, aqu&iacute;.&nbsp;<br/><b
 r/><b>Organitza</b><br/>Hard Rock Cafe Andorra</FONT></BODY>
 </HTML>
END:VEVENT
END:VCALENDAR