BEGIN:VCALENDAR
VERSION:2.0
METHOD:PUBLISH
PRODID:-//Agenda.ad//NONSGML v1.0//EN
BEGIN:VEVENT
CLASS:PUBLIC
UID:2a6463d336ef4bfb5f8087276dafbec7@agenda.ad
DTSTAMP:20260424T072357Z
DTSTART:20191114T230000Z
DTEND:20191116T230000Z
SUMMARY:<p>II Festival internacional de guitarra d'Andorra la Vella</p>
DESCRIPTION:Jornada dedicada a un dels instruments mÃ©s populars d
 el mÃ³n: la guitarra.\n\nMÃ©s informaciÃ³\nhttps://www
 .agenda.ad/activitat/andorra-la-vella/musica/ii-festival-int
 ernacional-de-guitarra-d-andorra-la-vella\n\n\nOrganitza\nMÃ
 ºsica FusiÃ³ 
LOCATION:Centre Cultural La Llacuna
SEQUENCE:0
TRANSP:OPAQUE
X-ALT-DESC;FMTTYPE=text/html:<!DOCTYPE HTML PUBLIC "-//W3C//DTD HTML 3.2//EN"><HTML><HEAD
 ><TITLE></TITLE></HEAD><BODY><FONT FACE="Arial" SIZE=2>Jorna
 da dedicada a un dels instruments m&eacute;s populars del m&
 oacute;n: la guitarra.<br/><br/><b>MÃ©s informaciÃ³</b><br/>
 <a href="https://www.agenda.ad/activitat/andorra-la-vella/mu
 sica/ii-festival-internacional-de-guitarra-d-andorra-la-vell
 a">https://www.agenda.ad/activitat/andorra-la-vella/musica/i
 i-festival-internacional-de-guitarra-d-andorra-la-vella</a><
 br/><br/><br/><b>Organitza</b><br/>MÃºsica FusiÃ³ </FONT></B
 ODY></HTML>
END:VEVENT
END:VCALENDAR