BEGIN:VCALENDAR
VERSION:2.0
METHOD:PUBLISH
PRODID:-//Agenda.ad//NONSGML v1.0//EN
BEGIN:VEVENT
CLASS:PUBLIC
UID:049c1b260070ed4e6acebccde32facc2@agenda.ad
DTSTAMP:20260422T044129Z
DTSTART:20190123T230000Z
DTEND:20190403T220000Z
SUMMARY:Temporada de m&uacute;sica i dansa d'Andorra la Vella Morabanc
DESCRIPTION:25 anys de Música i Dansa\n\nMés informació\nhttps:
 //www.agenda.ad/activitat/andorra-la-vella/musica/temporada-
 de-musica-i-dansa-d-andorra-la-vella-morabanc\nwww.temporada
 morabanc.comwww.comuandorralavella.ad\n\nOrganitza\nComú d'
 Andorra la Vella / Morabanc
LOCATION:Centre de Congressos d'Andorra la Vella
SEQUENCE:0
TRANSP:OPAQUE
X-ALT-DESC;FMTTYPE=text/html:<!DOCTYPE HTML PUBLIC "-//W3C//DTD HTML 3.2//EN"><HTML><HEAD
 ><TITLE></TITLE></HEAD><BODY><FONT FACE="Arial" SIZE=2>25 an
 ys de M&uacute;sica i Dansa<br/><br/><b>Més informació</b>
 <br/><a href="https://www.agenda.ad/activitat/andorra-la-vel
 la/musica/temporada-de-musica-i-dansa-d-andorra-la-vella-mor
 abanc">https://www.agenda.ad/activitat/andorra-la-vella/musi
 ca/temporada-de-musica-i-dansa-d-andorra-la-vella-morabanc</
 a><br/>www.temporadamorabanc.comwww.comuandorralavella.ad<br
 /><br/><b>Organitza</b><br/>Comú d'Andorra la Vella / Morab
 anc</FONT></BODY></HTML>
END:VEVENT
END:VCALENDAR