BEGIN:VCALENDAR
VERSION:2.0
METHOD:PUBLISH
PRODID:-//Agenda.ad//NONSGML v1.0//EN
BEGIN:VEVENT
CLASS:PUBLIC
UID:7c806f819e287703082e9acd3c9492cd@agenda.ad
DTSTAMP:20260419T190204Z
DTSTART:20260312T230000Z
DTEND:20260312T230000Z
SUMMARY:Tribut a La Oreja de Van Gogh
DESCRIPTION:\n\nMés informació\nhttps://www.agenda.ad/activitat/andorr
 a-la-vella/musica/tribut-a-la-oreja-de-van-gogh\nhttps://www
 .instagram.com/p/DVVk_yBiIJZ/\n\nOrganitza\n Pizzeria Primav
 era
LOCATION:Pizzeria Primavera
SEQUENCE:0
TRANSP:OPAQUE
X-ALT-DESC;FMTTYPE=text/html:<!DOCTYPE HTML PUBLIC "-//W3C//DTD HTML 3.2//EN"><HTML><HEAD
 ><TITLE></TITLE></HEAD><BODY><FONT FACE="Arial" SIZE=2><br/>
 <br/><b>Més informació</b><br/><a href="https://www.agenda
 .ad/activitat/andorra-la-vella/musica/tribut-a-la-oreja-de-v
 an-gogh">https://www.agenda.ad/activitat/andorra-la-vella/mu
 sica/tribut-a-la-oreja-de-van-gogh</a><br/>https://www.insta
 gram.com/p/DVVk_yBiIJZ/<br/><br/><b>Organitza</b><br/> Pizze
 ria Primavera</FONT></BODY></HTML>
END:VEVENT
END:VCALENDAR