BEGIN:VCALENDAR
VERSION:2.0
METHOD:PUBLISH
PRODID:-//Agenda.ad//NONSGML v1.0//EN
BEGIN:VEVENT
CLASS:PUBLIC
UID:6df45bc23cd57ef26e588507dcf67d90@agenda.ad
DTSTAMP:20260422T015855Z
DTSTART:20191008T220000Z
DTEND:20191008T220000Z
SUMMARY:<span>'CAR/MEN, CHICOS MAMBO' &middot; Saison Culturelle</span>
DESCRIPTION:\n\nMés informació\nhttps://www.agenda.ad/activitat/andorr
 a-la-vella/teatre-i-dansa/-car-men-chicos-mambo-saison-cultu
 relle\n\n\nOrganitza\nAmbaixada de França a Andorra
LOCATION:Centre de Congressos d'Andorra la Vella
SEQUENCE:0
TRANSP:OPAQUE
X-ALT-DESC;FMTTYPE=text/html:<!DOCTYPE HTML PUBLIC "-//W3C//DTD HTML 3.2//EN"><HTML><HEAD
 ><TITLE></TITLE></HEAD><BODY><FONT FACE="Arial" SIZE=2><br/>
 <br/><b>Més informació</b><br/><a href="https://www.agenda
 .ad/activitat/andorra-la-vella/teatre-i-dansa/-car-men-chico
 s-mambo-saison-culturelle">https://www.agenda.ad/activitat/a
 ndorra-la-vella/teatre-i-dansa/-car-men-chicos-mambo-saison-
 culturelle</a><br/><br/><br/><b>Organitza</b><br/>Ambaixada 
 de França a Andorra</FONT></BODY></HTML>
END:VEVENT
END:VCALENDAR