BEGIN:VCALENDAR
VERSION:2.0
METHOD:PUBLISH
PRODID:-//Agenda.ad//NONSGML v1.0//EN
BEGIN:VEVENT
CLASS:PUBLIC
UID:b3c21971a4f5410bab5294b4999bf7c3@agenda.ad
DTSTAMP:20260422T044022Z
DTSTART:20190129T230000Z
DTEND:20190621T220000Z
SUMMARY:54a Temporada de teatre&nbsp;Andorra la Vella - Sant Juli&agrave; de L&ograve;ria<strong><br /></strong><br /><br />
DESCRIPTION:Gener - juny 2019\n\nMés informació\nhttps://www.agenda.ad
 /activitat/andorra-la-vella/teatre-i-dansa/54a-temporada-de-
 teatreandorra-la-vella-sant-julia-de-loria\nwww.andorralavel
 la.adwww.santjulia.ad Consulteu www.agenda.ad&nbsp
 ;i estareu al dia de totes les activitats culturals del pa&i
 acute;s.\n\nOrganitza\nComú d'Andorra la Vella i Comú de S
 ant Julià de Lòria
LOCATION:A diversos espais d'Andorra la Vella
SEQUENCE:0
TRANSP:OPAQUE
X-ALT-DESC;FMTTYPE=text/html:<!DOCTYPE HTML PUBLIC "-//W3C//DTD HTML 3.2//EN"><HTML><HEAD
 ><TITLE></TITLE></HEAD><BODY><FONT FACE="Arial" SIZE=2>Gener
  - juny 2019<br/><br/><b>Més informació</b><br/><a href="h
 ttps://www.agenda.ad/activitat/andorra-la-vella/teatre-i-dan
 sa/54a-temporada-de-teatreandorra-la-vella-sant-julia-de-lor
 ia">https://www.agenda.ad/activitat/andorra-la-vella/teatre-
 i-dansa/54a-temporada-de-teatreandorra-la-vella-sant-julia-d
 e-loria</a><br/>www.andorralavella.adwww.santjulia.ad&nbsp;C
 onsulteu&nbsp;www.agenda.ad&nbsp;i estareu al dia de totes l
 es activitats culturals del pa&iacute;s.<br/><br/><b>Organit
 za</b><br/>Comú d'Andorra la Vella i Comú de Sant Julià d
 e Lòria</FONT></BODY></HTML>
END:VEVENT
END:VCALENDAR