BEGIN:VCALENDAR
VERSION:2.0
METHOD:PUBLISH
PRODID:-//Agenda.ad//NONSGML v1.0//EN
BEGIN:VEVENT
CLASS:PUBLIC
UID:2ea076b016441803ca39e2551a59c879@agenda.ad
DTSTAMP:20191122T230710Z
DTSTART:20191203T230000Z
DTEND:20191203T230000Z
SUMMARY:<span>55a Temporada de teatre &middot;</span>&nbsp;'Yllana: Pagagnini 2'
DESCRIPTION:55a Temporada de teatre\n\nMés informació\nhttps://www.age
 nda.ad/activitat/andorra-la-vella/teatre-i-dansa/55a-tempora
 da-de-teatre-11055\nwww.andorralavella.adwww.santjulia.ad&nb
 sp;\n\nOrganitza\nComú d'Andorra la Vella
LOCATION:Teatre Comunal
SEQUENCE:0
TRANSP:OPAQUE
X-ALT-DESC;FMTTYPE=text/html:<!DOCTYPE HTML PUBLIC "-//W3C//DTD HTML 3.2//EN"><HTML><HEAD
 ><TITLE></TITLE></HEAD><BODY><FONT FACE="Arial" SIZE=2><span
 >55a Temporada de teatre</span><br/><br/><b>Més informació
 </b><br/><a href="https://www.agenda.ad/activitat/andorra-la
 -vella/teatre-i-dansa/55a-temporada-de-teatre-11055">https:/
 /www.agenda.ad/activitat/andorra-la-vella/teatre-i-dansa/55a
 -temporada-de-teatre-11055</a><br/>www.andorralavella.adwww.
 santjulia.ad&nbsp;<br/><br/><b>Organitza</b><br/>Comú d'And
 orra la Vella</FONT></BODY></HTML>
END:VEVENT
END:VCALENDAR