BEGIN:VCALENDAR
VERSION:2.0
METHOD:PUBLISH
PRODID:-//Agenda.ad//NONSGML v1.0//EN
BEGIN:VEVENT
CLASS:PUBLIC
UID:49b99a2b2d3cfaaaafe2595e5596a79a@agenda.ad
DTSTAMP:20260419T174820Z
DTSTART:20260320T230000Z
DTEND:20260320T230000Z
SUMMARY:68a Temporada de Teatre d&rsquo;Andorra la Vella: "Abrakadabra<em>"</em>
DESCRIPTION:\n\nMés informació\nhttps://www.agenda.ad/activitat/andorr
 a-la-vella/teatre-i-dansa/68a-temporada-de-teatre-dandorra-l
 a-vella-abrakadabra\n\n\nOrganitza\nComú d'Andorra la Vella
LOCATION:Teatre Comunal
SEQUENCE:0
TRANSP:OPAQUE
X-ALT-DESC;FMTTYPE=text/html:<!DOCTYPE HTML PUBLIC "-//W3C//DTD HTML 3.2//EN"><HTML><HEAD
 ><TITLE></TITLE></HEAD><BODY><FONT FACE="Arial" SIZE=2><br/>
 <br/><b>Més informació</b><br/><a href="https://www.agenda
 .ad/activitat/andorra-la-vella/teatre-i-dansa/68a-temporada-
 de-teatre-dandorra-la-vella-abrakadabra">https://www.agenda.
 ad/activitat/andorra-la-vella/teatre-i-dansa/68a-temporada-d
 e-teatre-dandorra-la-vella-abrakadabra</a><br/><br/><br/><b>
 Organitza</b><br/>Comú d'Andorra la Vella</FONT></BODY></HT
 ML>
END:VEVENT
END:VCALENDAR