BEGIN:VCALENDAR
VERSION:2.0
METHOD:PUBLISH
PRODID:-//Agenda.ad//NONSGML v1.0//EN
BEGIN:VEVENT
CLASS:PUBLIC
UID:e8038e05cf9436063b665bd1140bf309@agenda.ad
DTSTAMP:20260419T215719Z
DTSTART:20250924T220000Z
DTEND:20260225T230000Z
SUMMARY:Classes Moviment i Veu
DESCRIPTION:\n\nMés informació\nhttps://www.agenda.ad/activitat/andorr
 a-la-vella/teatre-i-dansa/classes-moviment-i-veu\nhttps://dr
 ive.google.com/file/d/1GoX3PjUIRf85z9-iCCGWW9VLCSBIstp5/view
 ?usp=sharing\n\nOrganitza\nAssociació Cultural Momentum
LOCATION:Centre Cultural La Llacuna
SEQUENCE:0
TRANSP:OPAQUE
X-ALT-DESC;FMTTYPE=text/html:<!DOCTYPE HTML PUBLIC "-//W3C//DTD HTML 3.2//EN"><HTML><HEAD
 ><TITLE></TITLE></HEAD><BODY><FONT FACE="Arial" SIZE=2><br/>
 <br/><b>Més informació</b><br/><a href="https://www.agenda
 .ad/activitat/andorra-la-vella/teatre-i-dansa/classes-movime
 nt-i-veu">https://www.agenda.ad/activitat/andorra-la-vella/t
 eatre-i-dansa/classes-moviment-i-veu</a><br/>https://drive.g
 oogle.com/file/d/1GoX3PjUIRf85z9-iCCGWW9VLCSBIstp5/view?usp=
 sharing<br/><br/><b>Organitza</b><br/>Associació Cultural M
 omentum</FONT></BODY></HTML>
END:VEVENT
END:VCALENDAR