BEGIN:VCALENDAR
VERSION:2.0
METHOD:PUBLISH
PRODID:-//Agenda.ad//NONSGML v1.0//EN
BEGIN:VEVENT
CLASS:PUBLIC
UID:23d95d107677bab58c1b7ab2ec70738c@agenda.ad
DTSTAMP:20260419T202923Z
DTSTART:20260304T230000Z
DTEND:20260304T230000Z
SUMMARY:La 31a Temporada Morabanc Andorra la Vella - Junior Ballet &Ograve;pera de Par&iacute;s
DESCRIPTION:\n\nMés informació\nhttps://www.agenda.ad/activitat/andorr
 a-la-vella/teatre-i-dansa/la-31a-temporada-morabanc-andorra-
 la-vella-junior-ballet-opera-de-paris\n\n\nOrganitza\nComú 
 d'Andorra la Vella, MoraBanc
LOCATION:Centre de Congressos d'Andorra la Vella
SEQUENCE:0
TRANSP:OPAQUE
X-ALT-DESC;FMTTYPE=text/html:<!DOCTYPE HTML PUBLIC "-//W3C//DTD HTML 3.2//EN"><HTML><HEAD
 ><TITLE></TITLE></HEAD><BODY><FONT FACE="Arial" SIZE=2><br/>
 <br/><b>Més informació</b><br/><a href="https://www.agenda
 .ad/activitat/andorra-la-vella/teatre-i-dansa/la-31a-tempora
 da-morabanc-andorra-la-vella-junior-ballet-opera-de-paris">h
 ttps://www.agenda.ad/activitat/andorra-la-vella/teatre-i-dan
 sa/la-31a-temporada-morabanc-andorra-la-vella-junior-ballet-
 opera-de-paris</a><br/><br/><br/><b>Organitza</b><br/>Comú 
 d'Andorra la Vella, MoraBanc</FONT></BODY></HTML>
END:VEVENT
END:VCALENDAR