BEGIN:VCALENDAR
VERSION:2.0
METHOD:PUBLISH
PRODID:-//Agenda.ad//NONSGML v1.0//EN
BEGIN:VEVENT
CLASS:PUBLIC
UID:d1a4c50ce22b7ed95cbcae55918cdd2c@agenda.ad
DTSTAMP:20260419T202021Z
DTSTART:20260227T230000Z
DTEND:20260227T230000Z
SUMMARY:Obra de teatre 'Invisible'
DESCRIPTION:\n\nMés informació\nhttps://www.agenda.ad/activitat/andorr
 a-la-vella/teatre-i-dansa/obra-de-teatre-invisible-\namma:an
 dorra@gmail.com\n\nOrganitza\nAssociació de Malalties Minor
 itàries d’Andorra, AMMA i Entreacte
LOCATION:Teatre Comunal
SEQUENCE:0
TRANSP:OPAQUE
X-ALT-DESC;FMTTYPE=text/html:<!DOCTYPE HTML PUBLIC "-//W3C//DTD HTML 3.2//EN"><HTML><HEAD
 ><TITLE></TITLE></HEAD><BODY><FONT FACE="Arial" SIZE=2><br/>
 <br/><b>Més informació</b><br/><a href="https://www.agenda
 .ad/activitat/andorra-la-vella/teatre-i-dansa/obra-de-teatre
 -invisible-">https://www.agenda.ad/activitat/andorra-la-vell
 a/teatre-i-dansa/obra-de-teatre-invisible-</a><br/>amma:ando
 rra@gmail.com<br/><br/><b>Organitza</b><br/>Associació de M
 alalties Minoritàries d’Andorra, AMMA i Entreacte</FONT><
 /BODY></HTML>
END:VEVENT
END:VCALENDAR