BEGIN:VCALENDAR
VERSION:2.0
METHOD:PUBLISH
PRODID:-//Agenda.ad//NONSGML v1.0//EN
BEGIN:VEVENT
CLASS:PUBLIC
UID:4ab8849d8dd6b99286a8835e34d2a437@agenda.ad
DTSTAMP:20260424T092847Z
DTSTART:20191210T230000Z
DTEND:20191210T230000Z
SUMMARY:Contacontes infantil en franc&egrave;s: "LES 4 LOUPS"
DESCRIPTION:\n\nMés informació\nhttps://www.agenda.ad/activitat/canill
 o/activitats-infantils/contacontes-infantil-en-frances-les-4
 -loups\n\n\nOrganitza\nComú de Canillo
LOCATION:Biblioteca de Canillo
SEQUENCE:0
TRANSP:OPAQUE
X-ALT-DESC;FMTTYPE=text/html:<!DOCTYPE HTML PUBLIC "-//W3C//DTD HTML 3.2//EN"><HTML><HEAD
 ><TITLE></TITLE></HEAD><BODY><FONT FACE="Arial" SIZE=2><br/>
 <br/><b>Més informació</b><br/><a href="https://www.agenda
 .ad/activitat/canillo/activitats-infantils/contacontes-infan
 til-en-frances-les-4-loups">https://www.agenda.ad/activitat/
 canillo/activitats-infantils/contacontes-infantil-en-frances
 -les-4-loups</a><br/><br/><br/><b>Organitza</b><br/>Comú de
  Canillo</FONT></BODY></HTML>
END:VEVENT
END:VCALENDAR