BEGIN:VCALENDAR
VERSION:2.0
METHOD:PUBLISH
PRODID:-//Agenda.ad//NONSGML v1.0//EN
BEGIN:VEVENT
CLASS:PUBLIC
UID:fb9e4db4b13682cb164ea4f4d05b6d3a@agenda.ad
DTSTAMP:20191124T195810Z
DTSTART:20191129T230000Z
DTEND:20191129T230000Z
SUMMARY:Sortida a Barcelona al Sal&oacute; del Manga
DESCRIPTION:\n\nMés informació\nhttps://www.agenda.ad/activitat/canill
 o/activitats-infantils/sortida-a-barcelona-al-salo-del-manga
 \n\n\nOrganitza\nDepartament d'Atenció Social del Comú de 
 Canillo
LOCATION:Punt Jove
SEQUENCE:0
TRANSP:OPAQUE
X-ALT-DESC;FMTTYPE=text/html:<!DOCTYPE HTML PUBLIC "-//W3C//DTD HTML 3.2//EN"><HTML><HEAD
 ><TITLE></TITLE></HEAD><BODY><FONT FACE="Arial" SIZE=2><br/>
 <br/><b>Més informació</b><br/><a href="https://www.agenda
 .ad/activitat/canillo/activitats-infantils/sortida-a-barcelo
 na-al-salo-del-manga">https://www.agenda.ad/activitat/canill
 o/activitats-infantils/sortida-a-barcelona-al-salo-del-manga
 </a><br/><br/><br/><b>Organitza</b><br/>Departament d'Atenci
 ó Social del Comú de Canillo</FONT></BODY></HTML>
END:VEVENT
END:VCALENDAR