BEGIN:VCALENDAR
VERSION:2.0
METHOD:PUBLISH
PRODID:-//Agenda.ad//NONSGML v1.0//EN
BEGIN:VEVENT
CLASS:PUBLIC
UID:8a5c9b26a5a2f06fc882121512fbf506@agenda.ad
DTSTAMP:20260422T003755Z
DTSTART:20191016T220000Z
DTEND:20191016T220000Z
SUMMARY:'El rom&agrave;nic d&rsquo;Andorra: l&rsquo;esg&eacute;sia de Sant Joan de Caselles'
DESCRIPTION:\n\nMés informació\nhttps://www.agenda.ad/activitat/canill
 o/conferencies/-el-romanic-dandorra-lesgesia-de-sant-joan-de
 -caselles-\n\n\nOrganitza\nInstitut d’Estudis Andorrans
LOCATION:Església de Sant Joan de Caselles
SEQUENCE:0
TRANSP:OPAQUE
X-ALT-DESC;FMTTYPE=text/html:<!DOCTYPE HTML PUBLIC "-//W3C//DTD HTML 3.2//EN"><HTML><HEAD
 ><TITLE></TITLE></HEAD><BODY><FONT FACE="Arial" SIZE=2><br/>
 <br/><b>Més informació</b><br/><a href="https://www.agenda
 .ad/activitat/canillo/conferencies/-el-romanic-dandorra-lesg
 esia-de-sant-joan-de-caselles-">https://www.agenda.ad/activi
 tat/canillo/conferencies/-el-romanic-dandorra-lesgesia-de-sa
 nt-joan-de-caselles-</a><br/><br/><br/><b>Organitza</b><br/>
 Institut d’Estudis Andorrans</FONT></BODY></HTML>
END:VEVENT
END:VCALENDAR