BEGIN:VCALENDAR
VERSION:2.0
METHOD:PUBLISH
PRODID:-//Agenda.ad//NONSGML v1.0//EN
BEGIN:VEVENT
CLASS:PUBLIC
UID:c349757bae42c1de4a5575c5cdb2ee03@agenda.ad
DTSTAMP:20260419T190122Z
DTSTART:20260308T230000Z
DTEND:20260308T230000Z
SUMMARY:Presentaci&oacute;: Estrat&egrave;gia tur&iacute;stica parr&ograve;quia de Canillo
DESCRIPTION:\n\nMÃ©s informaciÃ³\nhttps://www.agenda.ad/activitat/canill
 o/conferencies/presentacio-estrategia-turistica-parroquia-de
 -canillo\n\n\nOrganitza\nComÃº de Canillo
LOCATION:Auditori del Palau de Gel d'Andorra
SEQUENCE:0
TRANSP:OPAQUE
X-ALT-DESC;FMTTYPE=text/html:<!DOCTYPE HTML PUBLIC "-//W3C//DTD HTML 3.2//EN"><HTML><HEAD
 ><TITLE></TITLE></HEAD><BODY><FONT FACE="Arial" SIZE=2><br/>
 <br/><b>MÃ©s informaciÃ³</b><br/><a href="https://www.agenda
 .ad/activitat/canillo/conferencies/presentacio-estrategia-tu
 ristica-parroquia-de-canillo">https://www.agenda.ad/activita
 t/canillo/conferencies/presentacio-estrategia-turistica-parr
 oquia-de-canillo</a><br/><br/><br/><b>Organitza</b><br/>ComÃ
 º de Canillo</FONT></BODY></HTML>
END:VEVENT
END:VCALENDAR