BEGIN:VCALENDAR
VERSION:2.0
METHOD:PUBLISH
PRODID:-//Agenda.ad//NONSGML v1.0//EN
BEGIN:VEVENT
CLASS:PUBLIC
UID:7833107e1d3ba3a5f4fdfe8772f2a82a@agenda.ad
DTSTAMP:20260424T095339Z
DTSTART:20191119T230000Z
DTEND:20191203T230000Z
SUMMARY:'Castellers d'Andorra. 5 anys fent pinya'
DESCRIPTION:5è aniversari dels Castellers d’Andorra.\n\nMé
 s informació\nhttps://www.agenda.ad/activitat/canillo/expos
 icions/-castellers-d-andorra-5-anys-fent-pinya-11363\n\n\nOr
 ganitza\nCastellers d'Andorra
LOCATION:Palau de Gel
SEQUENCE:0
TRANSP:OPAQUE
X-ALT-DESC;FMTTYPE=text/html:<!DOCTYPE HTML PUBLIC "-//W3C//DTD HTML 3.2//EN"><HTML><HEAD
 ><TITLE></TITLE></HEAD><BODY><FONT FACE="Arial" SIZE=2>5&egr
 ave; aniversari dels Castellers d&rsquo;Andorra.<br/><br/><b
 >Més informació</b><br/><a href="https://www.agenda.ad/act
 ivitat/canillo/exposicions/-castellers-d-andorra-5-anys-fent
 -pinya-11363">https://www.agenda.ad/activitat/canillo/exposi
 cions/-castellers-d-andorra-5-anys-fent-pinya-11363</a><br/>
 <br/><br/><b>Organitza</b><br/>Castellers d'Andorra</FONT></
 BODY></HTML>
END:VEVENT
END:VCALENDAR