BEGIN:VCALENDAR
VERSION:2.0
METHOD:PUBLISH
PRODID:-//Agenda.ad//NONSGML v1.0//EN
BEGIN:VEVENT
CLASS:PUBLIC
UID:cc72512e6b6e5d4bd6e3e80f7071e324@agenda.ad
DTSTAMP:20260424T123012Z
DTSTART:20200104T230000Z
DTEND:20200104T230000Z
SUMMARY:Arribada de S. M. els Reis d'Orient
DESCRIPTION:\n\nMés informació\nhttps://www.agenda.ad/activitat/canill
 o/festes-i-tradicions/arribada-de-ssmm-els-reis-d-orient\n\n
 \nOrganitza\nComú de Canillo
LOCATION:Plaça del Prat del Riu
SEQUENCE:0
TRANSP:OPAQUE
X-ALT-DESC;FMTTYPE=text/html:<!DOCTYPE HTML PUBLIC "-//W3C//DTD HTML 3.2//EN"><HTML><HEAD
 ><TITLE></TITLE></HEAD><BODY><FONT FACE="Arial" SIZE=2><br/>
 <br/><b>Més informació</b><br/><a href="https://www.agenda
 .ad/activitat/canillo/festes-i-tradicions/arribada-de-ssmm-e
 ls-reis-d-orient">https://www.agenda.ad/activitat/canillo/fe
 stes-i-tradicions/arribada-de-ssmm-els-reis-d-orient</a><br/
 ><br/><br/><b>Organitza</b><br/>Comú de Canillo</FONT></BOD
 Y></HTML>
END:VEVENT
END:VCALENDAR