BEGIN:VCALENDAR
VERSION:2.0
METHOD:PUBLISH
PRODID:-//Agenda.ad//NONSGML v1.0//EN
BEGIN:VEVENT
CLASS:PUBLIC
UID:82c31836124cb0b82cf6a2ef133f78d3@agenda.ad
DTSTAMP:20260424T092847Z
DTSTART:20191223T230000Z
DTEND:20191223T230000Z
SUMMARY:Arribada del Pare Noel
DESCRIPTION:\n\nMés informació\nhttps://www.agenda.ad/activitat/canill
 o/festes-i-tradicions/arribada-del-pare-noel-11168\n\n\nOrga
 nitza\nComú de Canillo
LOCATION:Palau de Gel
SEQUENCE:0
TRANSP:OPAQUE
X-ALT-DESC;FMTTYPE=text/html:<!DOCTYPE HTML PUBLIC "-//W3C//DTD HTML 3.2//EN"><HTML><HEAD
 ><TITLE></TITLE></HEAD><BODY><FONT FACE="Arial" SIZE=2><br/>
 <br/><b>Més informació</b><br/><a href="https://www.agenda
 .ad/activitat/canillo/festes-i-tradicions/arribada-del-pare-
 noel-11168">https://www.agenda.ad/activitat/canillo/festes-i
 -tradicions/arribada-del-pare-noel-11168</a><br/><br/><br/><
 b>Organitza</b><br/>Comú de Canillo</FONT></BODY></HTML>
END:VEVENT
END:VCALENDAR