BEGIN:VCALENDAR
VERSION:2.0
METHOD:PUBLISH
PRODID:-//Agenda.ad//NONSGML v1.0//EN
BEGIN:VEVENT
CLASS:PUBLIC
UID:19a0426526b3a6ee263957a1889fe0f3@agenda.ad
DTSTAMP:20260422T003515Z
DTSTART:20191018T220000Z
DTEND:20191018T220000Z
SUMMARY:Festa de l'ostra
DESCRIPTION:\n\nMés informació\nhttps://www.agenda.ad/activitat/canill
 o/festes-i-tradicions/festa-de-l-ostra-11143\n\n\nOrganitza\
 nComú de Canillo
LOCATION:Aparcament dels Refugis
SEQUENCE:0
TRANSP:OPAQUE
X-ALT-DESC;FMTTYPE=text/html:<!DOCTYPE HTML PUBLIC "-//W3C//DTD HTML 3.2//EN"><HTML><HEAD
 ><TITLE></TITLE></HEAD><BODY><FONT FACE="Arial" SIZE=2><br/>
 <br/><b>Més informació</b><br/><a href="https://www.agenda
 .ad/activitat/canillo/festes-i-tradicions/festa-de-l-ostra-1
 1143">https://www.agenda.ad/activitat/canillo/festes-i-tradi
 cions/festa-de-l-ostra-11143</a><br/><br/><br/><b>Organitza<
 /b><br/>Comú de Canillo</FONT></BODY></HTML>
END:VEVENT
END:VCALENDAR