BEGIN:VCALENDAR
VERSION:2.0
METHOD:PUBLISH
PRODID:-//Agenda.ad//NONSGML v1.0//EN
BEGIN:VEVENT
CLASS:PUBLIC
UID:3374ea19da0a3ce91ca1df1d5f443632@agenda.ad
DTSTAMP:20260424T084118Z
DTSTART:20260508T220000Z
DTEND:20260508T220000Z
SUMMARY:Festa Major de Prats
DESCRIPTION:\n\nMés informació\nhttps://www.agenda.ad/activitat/canill
 o/festes-i-tradicions/festa-major-de-prats-23931\nDepartamen
 t de Cultura i Tradicions / Tel. (376) 670 342 / culturaitra
 dicions@canillo.ad\n\nOrganitza\nComú de Canillo
LOCATION:Canillo
SEQUENCE:0
TRANSP:OPAQUE
X-ALT-DESC;FMTTYPE=text/html:<!DOCTYPE HTML PUBLIC "-//W3C//DTD HTML 3.2//EN"><HTML><HEAD
 ><TITLE></TITLE></HEAD><BODY><FONT FACE="Arial" SIZE=2><br/>
 <br/><b>Més informació</b><br/><a href="https://www.agenda
 .ad/activitat/canillo/festes-i-tradicions/festa-major-de-pra
 ts-23931">https://www.agenda.ad/activitat/canillo/festes-i-t
 radicions/festa-major-de-prats-23931</a><br/>Departament de 
 Cultura i Tradicions / Tel. (376) 670 342 / culturaitradicio
 ns@canillo.ad<br/><br/><b>Organitza</b><br/>Comú de Canillo
 </FONT></BODY></HTML>
END:VEVENT
END:VCALENDAR