BEGIN:VCALENDAR
VERSION:2.0
METHOD:PUBLISH
PRODID:-//Agenda.ad//NONSGML v1.0//EN
BEGIN:VEVENT
CLASS:PUBLIC
UID:858a18d9ffb0e15409f8ebce35fcd447@agenda.ad
DTSTAMP:20260422T002917Z
DTSTART:20191019T220000Z
DTEND:20191019T220000Z
SUMMARY:Fira de Canillo
DESCRIPTION:Bestiar i artesania\n\nMés informació\nhttps://www.agenda.
 ad/activitat/canillo/fires-i-mercats/fira-de-canillo\n\n\nOr
 ganitza\nComú de Canillo
LOCATION:Canillo
SEQUENCE:0
TRANSP:OPAQUE
X-ALT-DESC;FMTTYPE=text/html:<!DOCTYPE HTML PUBLIC "-//W3C//DTD HTML 3.2//EN"><HTML><HEAD
 ><TITLE></TITLE></HEAD><BODY><FONT FACE="Arial" SIZE=2>Besti
 ar i artesania<br/><br/><b>Més informació</b><br/><a href=
 "https://www.agenda.ad/activitat/canillo/fires-i-mercats/fir
 a-de-canillo">https://www.agenda.ad/activitat/canillo/fires-
 i-mercats/fira-de-canillo</a><br/><br/><br/><b>Organitza</b>
 <br/>Comú de Canillo</FONT></BODY></HTML>
END:VEVENT
END:VCALENDAR