BEGIN:VCALENDAR
VERSION:2.0
METHOD:PUBLISH
PRODID:-//Agenda.ad//NONSGML v1.0//EN
BEGIN:VEVENT
CLASS:PUBLIC
UID:e7445e547736309b1537918085385fd7@agenda.ad
DTSTAMP:20260424T121626Z
DTSTART:20191217T230000Z
DTEND:20191217T230000Z
SUMMARY:Club de lectura. "L'altre costat del mirall" <br /><br />
DESCRIPTION:Amb presència de l'autor, Iñaki Rubio.\n\nMés
  informació\nhttps://www.agenda.ad/activitat/canillo/lletre
 s/club-de-lectura-11165\n\n\nOrganitza\nComú de Canillo
LOCATION:Biblioteca de Canillo
SEQUENCE:0
TRANSP:OPAQUE
X-ALT-DESC;FMTTYPE=text/html:<!DOCTYPE HTML PUBLIC "-//W3C//DTD HTML 3.2//EN"><HTML><HEAD
 ><TITLE></TITLE></HEAD><BODY><FONT FACE="Arial" SIZE=2><span
 >Amb pres&egrave;ncia de l'autor, I&ntilde;aki Rubio.</span>
 <br/><br/><b>Més informació</b><br/><a href="https://www.a
 genda.ad/activitat/canillo/lletres/club-de-lectura-11165">ht
 tps://www.agenda.ad/activitat/canillo/lletres/club-de-lectur
 a-11165</a><br/><br/><br/><b>Organitza</b><br/>Comú de Cani
 llo</FONT></BODY></HTML>
END:VEVENT
END:VCALENDAR