BEGIN:VCALENDAR
VERSION:2.0
METHOD:PUBLISH
PRODID:-//Agenda.ad//NONSGML v1.0//EN
BEGIN:VEVENT
CLASS:PUBLIC
UID:f47a2f5e178eddb9705867a7552a89f1@agenda.ad
DTSTAMP:20260419T190030Z
DTSTART:20260310T230000Z
DTEND:20260310T230000Z
SUMMARY:Club de Lectura de Canillo
DESCRIPTION:Club de Lectura amb el llibre de Mercè Rodoreda,
  "Jardí vora el mar"\n\nMés informació\nhttps:
 //www.agenda.ad/activitat/canillo/lletres/club-de-lectura-de
 -canillo-23532\nBiblioteca Comunal de Canillo+376 753 623bib
 lioteca@canillo.ad\n\nOrganitza\nComú de Canillo
LOCATION:Biblioteca de Canillo
SEQUENCE:0
TRANSP:OPAQUE
X-ALT-DESC;FMTTYPE=text/html:<!DOCTYPE HTML PUBLIC "-//W3C//DTD HTML 3.2//EN"><HTML><HEAD
 ><TITLE></TITLE></HEAD><BODY><FONT FACE="Arial" SIZE=2>Club 
 de Lectura amb el llibre de&nbsp;<em>Merc&egrave; Rodoreda,&
 nbsp;"Jard&iacute; vora el mar"</em><br/><br/><b>Més inform
 ació</b><br/><a href="https://www.agenda.ad/activitat/canil
 lo/lletres/club-de-lectura-de-canillo-23532">https://www.age
 nda.ad/activitat/canillo/lletres/club-de-lectura-de-canillo-
 23532</a><br/>Biblioteca Comunal de Canillo+376 753 623bibli
 oteca@canillo.ad<br/><br/><b>Organitza</b><br/>Comú de Cani
 llo</FONT></BODY></HTML>
END:VEVENT
END:VCALENDAR