BEGIN:VCALENDAR
VERSION:2.0
METHOD:PUBLISH
PRODID:-//Agenda.ad//NONSGML v1.0//EN
BEGIN:VEVENT
CLASS:PUBLIC
UID:a981ea029ab0cdead973200a0179bfc7@agenda.ad
DTSTAMP:20260419T190158Z
DTSTART:20260302T230000Z
DTEND:20260311T230000Z
SUMMARY:1res Jornades d'Hist&ograve;ria de Canillo
DESCRIPTION:\n\nMés informació\nhttps://www.agenda.ad/activitat/canill
 o/mes-cultura/1res-jornades-d-historia-de-canillo\nDepartame
 nt de Cultura i Tradicions / Te. (+376) 670 342 / culturaitr
 adicions@canillo.ad\n\nOrganitza\nComú de Canillo
LOCATION:Cal Federico
SEQUENCE:0
TRANSP:OPAQUE
X-ALT-DESC;FMTTYPE=text/html:<!DOCTYPE HTML PUBLIC "-//W3C//DTD HTML 3.2//EN"><HTML><HEAD
 ><TITLE></TITLE></HEAD><BODY><FONT FACE="Arial" SIZE=2><br/>
 <br/><b>Més informació</b><br/><a href="https://www.agenda
 .ad/activitat/canillo/mes-cultura/1res-jornades-d-historia-d
 e-canillo">https://www.agenda.ad/activitat/canillo/mes-cultu
 ra/1res-jornades-d-historia-de-canillo</a><br/>Departament d
 e Cultura i Tradicions / Te. (+376) 670 342 / culturaitradic
 ions@canillo.ad<br/><br/><b>Organitza</b><br/>Comú de Canil
 lo</FONT></BODY></HTML>
END:VEVENT
END:VCALENDAR