BEGIN:VCALENDAR
VERSION:2.0
METHOD:PUBLISH
PRODID:-//Agenda.ad//NONSGML v1.0//EN
BEGIN:VEVENT
CLASS:PUBLIC
UID:b15a30dc31ca1b665a782d738e3e7b19@agenda.ad
DTSTAMP:20260424T072453Z
DTSTART:20191218T230000Z
DTEND:20191218T230000Z
SUMMARY:Concert de Vibrand en Clau de Soul
DESCRIPTION:\n\nMés informació\nhttps://www.agenda.ad/activitat/canill
 o/musica/concert-de-vibrand-en-clau-de-soul-11427\n\n\nOrgan
 itza\nHotel Piolets
LOCATION:Hotel Piolets Centre Soldeu
SEQUENCE:0
TRANSP:OPAQUE
X-ALT-DESC;FMTTYPE=text/html:<!DOCTYPE HTML PUBLIC "-//W3C//DTD HTML 3.2//EN"><HTML><HEAD
 ><TITLE></TITLE></HEAD><BODY><FONT FACE="Arial" SIZE=2><br/>
 <br/><b>Més informació</b><br/><a href="https://www.agenda
 .ad/activitat/canillo/musica/concert-de-vibrand-en-clau-de-s
 oul-11427">https://www.agenda.ad/activitat/canillo/musica/co
 ncert-de-vibrand-en-clau-de-soul-11427</a><br/><br/><br/><b>
 Organitza</b><br/>Hotel Piolets</FONT></BODY></HTML>
END:VEVENT
END:VCALENDAR