BEGIN:VCALENDAR
VERSION:2.0
METHOD:PUBLISH
PRODID:-//Agenda.ad//NONSGML v1.0//EN
BEGIN:VEVENT
CLASS:PUBLIC
UID:2f78d83fd1bb1e4b2e2d54b9e63e1e4f@agenda.ad
DTSTAMP:20260421T180810Z
DTSTART:20260526T220000Z
DTEND:20260526T220000Z
SUMMARY:<p>Concert del Cor de Cambra Valls d&rsquo;Andorra</p>
DESCRIPTION:\n\nMés informació\nhttps://www.agenda.ad/activitat/canill
 o/musica/concert-del-cor-de-cambra-valls-dandorra-23920\nhtt
 ps://cor-de-cambra-valls-andorra.org/fr/\n\nOrganitza\nCor d
 e Cambra Valls d’Andorra
LOCATION:Santuari Nostra Senyora de Meritxell
SEQUENCE:0
TRANSP:OPAQUE
X-ALT-DESC;FMTTYPE=text/html:<!DOCTYPE HTML PUBLIC "-//W3C//DTD HTML 3.2//EN"><HTML><HEAD
 ><TITLE></TITLE></HEAD><BODY><FONT FACE="Arial" SIZE=2><br/>
 <br/><b>Més informació</b><br/><a href="https://www.agenda
 .ad/activitat/canillo/musica/concert-del-cor-de-cambra-valls
 -dandorra-23920">https://www.agenda.ad/activitat/canillo/mus
 ica/concert-del-cor-de-cambra-valls-dandorra-23920</a><br/>h
 ttps://cor-de-cambra-valls-andorra.org/fr/<br/><br/><b>Organ
 itza</b><br/>Cor de Cambra Valls d’Andorra</FONT></BODY></
 HTML>
END:VEVENT
END:VCALENDAR