BEGIN:VCALENDAR
VERSION:2.0
METHOD:PUBLISH
PRODID:-//Agenda.ad//NONSGML v1.0//EN
BEGIN:VEVENT
CLASS:PUBLIC
UID:9d929cf8007a894c9f79d0c0f2acd1c1@agenda.ad
DTSTAMP:20260424T071824Z
DTSTART:20191206T230000Z
DTEND:20191206T230000Z
SUMMARY:Shuffle Express en concert
DESCRIPTION:\n\nMés informació\nhttps://www.agenda.ad/activitat/canill
 o/musica/shuffle-express-en-concert-11422\n\n\nOrganitza\nHo
 tel Canaro & Ski
LOCATION:Hotel Parador Canaro
SEQUENCE:0
TRANSP:OPAQUE
X-ALT-DESC;FMTTYPE=text/html:<!DOCTYPE HTML PUBLIC "-//W3C//DTD HTML 3.2//EN"><HTML><HEAD
 ><TITLE></TITLE></HEAD><BODY><FONT FACE="Arial" SIZE=2><br/>
 <br/><b>Més informació</b><br/><a href="https://www.agenda
 .ad/activitat/canillo/musica/shuffle-express-en-concert-1142
 2">https://www.agenda.ad/activitat/canillo/musica/shuffle-ex
 press-en-concert-11422</a><br/><br/><br/><b>Organitza</b><br
 />Hotel Canaro & Ski</FONT></BODY></HTML>
END:VEVENT
END:VCALENDAR