BEGIN:VCALENDAR
VERSION:2.0
METHOD:PUBLISH
PRODID:-//Agenda.ad//NONSGML v1.0//EN
BEGIN:VEVENT
CLASS:PUBLIC
UID:185f35368d399d41d49501b680cc9bd6@agenda.ad
DTSTAMP:20260422T042923Z
DTSTART:20190208T230000Z
DTEND:20190208T230000Z
SUMMARY:Shuffle Express en concert
DESCRIPTION:\n\nMés informació\nhttps://www.agenda.ad/activitat/canill
 o/musica/shuffle-express-en-concert-9830\n\n\nOrganitza\nHot
 el Parador Canaro
LOCATION:Hotel Parador Canaro
SEQUENCE:0
TRANSP:OPAQUE
X-ALT-DESC;FMTTYPE=text/html:<!DOCTYPE HTML PUBLIC "-//W3C//DTD HTML 3.2//EN"><HTML><HEAD
 ><TITLE></TITLE></HEAD><BODY><FONT FACE="Arial" SIZE=2><br/>
 <br/><b>Més informació</b><br/><a href="https://www.agenda
 .ad/activitat/canillo/musica/shuffle-express-en-concert-9830
 ">https://www.agenda.ad/activitat/canillo/musica/shuffle-exp
 ress-en-concert-9830</a><br/><br/><br/><b>Organitza</b><br/>
 Hotel Parador Canaro</FONT></BODY></HTML>
END:VEVENT
END:VCALENDAR