BEGIN:VCALENDAR
VERSION:2.0
METHOD:PUBLISH
PRODID:-//Agenda.ad//NONSGML v1.0//EN
BEGIN:VEVENT
CLASS:PUBLIC
UID:cee040c1fa577467f1a3cd4d57d15c09@agenda.ad
DTSTAMP:20260422T043236Z
DTSTART:20190207T230000Z
DTEND:20190207T230000Z
SUMMARY:The Swing Girls en concert
DESCRIPTION:The Swing Girls en concert\n\nMés informació\nhttps://www.
 agenda.ad/activitat/canillo/musica/the-swing-girls-en-concer
 t-9896\n\n\nOrganitza\nPub Village Soldeu
LOCATION:The Villager Tapas & Wine
SEQUENCE:0
TRANSP:OPAQUE
X-ALT-DESC;FMTTYPE=text/html:<!DOCTYPE HTML PUBLIC "-//W3C//DTD HTML 3.2//EN"><HTML><HEAD
 ><TITLE></TITLE></HEAD><BODY><FONT FACE="Arial" SIZE=2><span
 >The Swing Girls en concert</span><br/><br/><b>Més informac
 ió</b><br/><a href="https://www.agenda.ad/activitat/canillo
 /musica/the-swing-girls-en-concert-9896">https://www.agenda.
 ad/activitat/canillo/musica/the-swing-girls-en-concert-9896<
 /a><br/><br/><br/><b>Organitza</b><br/>Pub Village Soldeu</F
 ONT></BODY></HTML>
END:VEVENT
END:VCALENDAR