BEGIN:VCALENDAR
VERSION:2.0
METHOD:PUBLISH
PRODID:-//Agenda.ad//NONSGML v1.0//EN
BEGIN:VEVENT
CLASS:PUBLIC
UID:251532f50395ef1c2bc21575e40fb2a4@agenda.ad
DTSTAMP:20260422T003405Z
DTSTART:20191018T220000Z
DTEND:20191019T220000Z
SUMMARY:Festival de titelles, a Encamp i al Pas de la Casa
DESCRIPTION:\n\nMés informació\nhttps://www.agenda.ad/activitat/encamp
 /activitats-infantils/festival-de-titelles\n\n\nOrganitza\nC
 omú d'Encamp
LOCATION:Sala de festes del Complex Esportiu i Sociocultural d'Encamp
SEQUENCE:0
TRANSP:OPAQUE
X-ALT-DESC;FMTTYPE=text/html:<!DOCTYPE HTML PUBLIC "-//W3C//DTD HTML 3.2//EN"><HTML><HEAD
 ><TITLE></TITLE></HEAD><BODY><FONT FACE="Arial" SIZE=2><br/>
 <br/><b>Més informació</b><br/><a href="https://www.agenda
 .ad/activitat/encamp/activitats-infantils/festival-de-titell
 es">https://www.agenda.ad/activitat/encamp/activitats-infant
 ils/festival-de-titelles</a><br/><br/><br/><b>Organitza</b><
 br/>Comú d'Encamp</FONT></BODY></HTML>
END:VEVENT
END:VCALENDAR