BEGIN:VCALENDAR
VERSION:2.0
METHOD:PUBLISH
PRODID:-//Agenda.ad//NONSGML v1.0//EN
BEGIN:VEVENT
CLASS:PUBLIC
UID:4d5224bad75dc41896b8d147f35a70f9@agenda.ad
DTSTAMP:20260419T202924Z
DTSTART:20260227T230000Z
DTEND:20260227T230000Z
SUMMARY:Taller familiar 'Fem una cursa amb materials reciclats!'
DESCRIPTION:\n\nMés informació\nhttps://www.agenda.ad/activitat/encamp
 /activitats-infantils/taller-familiar-fem-una-cursa-amb-mate
 rials-reciclats!-\n(+376) 739 111
fedacultura@feda.ad
www.fe
 dacultura.ad\n\nOrganitza\nFEDA Cultura
LOCATION:MW Museu de l'Electricitat
SEQUENCE:0
TRANSP:OPAQUE
X-ALT-DESC;FMTTYPE=text/html:<!DOCTYPE HTML PUBLIC "-//W3C//DTD HTML 3.2//EN"><HTML><HEAD
 ><TITLE></TITLE></HEAD><BODY><FONT FACE="Arial" SIZE=2><br/>
 <br/><b>Més informació</b><br/><a href="https://www.agenda
 .ad/activitat/encamp/activitats-infantils/taller-familiar-fe
 m-una-cursa-amb-materials-reciclats!-">https://www.agenda.ad
 /activitat/encamp/activitats-infantils/taller-familiar-fem-u
 na-cursa-amb-materials-reciclats!-</a><br/>(+376) 739 111
fe
 dacultura@feda.ad
www.fedacultura.ad<br/><br/><b>Organitza</
 b><br/>FEDA Cultura</FONT></BODY></HTML>
END:VEVENT
END:VCALENDAR