BEGIN:VCALENDAR
VERSION:2.0
METHOD:PUBLISH
PRODID:-//Agenda.ad//NONSGML v1.0//EN
BEGIN:VEVENT
CLASS:PUBLIC
UID:d23c34b0f8b2f467b9a6f08167cdaaf0@agenda.ad
DTSTAMP:20260424T093743Z
DTSTART:20191209T230000Z
DTEND:20191209T230000Z
SUMMARY:<div>Taller "Fes la teva carta", a Encamp</div>
DESCRIPTION:\n\nMés informació\nhttps://www.agenda.ad/activitat/encamp
 /activitats-infantils/taller-fes-la-teva-carta-a-encamp\n\n\
 nOrganitza\nComú d'Encamp
LOCATION:Biblioteca Comunal d'Encamp
SEQUENCE:0
TRANSP:OPAQUE
X-ALT-DESC;FMTTYPE=text/html:<!DOCTYPE HTML PUBLIC "-//W3C//DTD HTML 3.2//EN"><HTML><HEAD
 ><TITLE></TITLE></HEAD><BODY><FONT FACE="Arial" SIZE=2><br/>
 <br/><b>Més informació</b><br/><a href="https://www.agenda
 .ad/activitat/encamp/activitats-infantils/taller-fes-la-teva
 -carta-a-encamp">https://www.agenda.ad/activitat/encamp/acti
 vitats-infantils/taller-fes-la-teva-carta-a-encamp</a><br/><
 br/><br/><b>Organitza</b><br/>Comú d'Encamp</FONT></BODY></
 HTML>
END:VEVENT
END:VCALENDAR