BEGIN:VCALENDAR
VERSION:2.0
METHOD:PUBLISH
PRODID:-//Agenda.ad//NONSGML v1.0//EN
BEGIN:VEVENT
CLASS:PUBLIC
UID:c8efa7c54043bb8d099f690e3bc0d22c@agenda.ad
DTSTAMP:20260422T015856Z
DTSTART:20191006T220000Z
DTEND:20191017T220000Z
SUMMARY:'Castellers d'Andorra: 5 anys fent pinya'
DESCRIPTION:ExposiciÃ³ Itinerant per celebrar el 5Ã¨ anivers
 ariÂ dels Castellers dâ€™Andorra.\n\nMÃ©s informaciÃ
 ³\nhttps://www.agenda.ad/activitat/encamp/exposicions/-caste
 llers-d-andorra-5-anys-fent-pinya--11134\n\n\nOrganitza\nCas
 tellers dâ€™Andorra
LOCATION:Punt d'InformaciÃ³ Juvenil (PIJ)
SEQUENCE:0
TRANSP:OPAQUE
X-ALT-DESC;FMTTYPE=text/html:<!DOCTYPE HTML PUBLIC "-//W3C//DTD HTML 3.2//EN"><HTML><HEAD
 ><TITLE></TITLE></HEAD><BODY><FONT FACE="Arial" SIZE=2><p>Ex
 posici&oacute; Itinerant per celebrar el 5&egrave; aniversar
 i&nbsp;dels Castellers d&rsquo;Andorra.</p><br/><br/><b>MÃ©s
  informaciÃ³</b><br/><a href="https://www.agenda.ad/activita
 t/encamp/exposicions/-castellers-d-andorra-5-anys-fent-pinya
 --11134">https://www.agenda.ad/activitat/encamp/exposicions/
 -castellers-d-andorra-5-anys-fent-pinya--11134</a><br/><br/>
 <br/><b>Organitza</b><br/>Castellers dâ€™Andorra</FONT></BOD
 Y></HTML>
END:VEVENT
END:VCALENDAR