BEGIN:VCALENDAR
VERSION:2.0
METHOD:PUBLISH
PRODID:-//Agenda.ad//NONSGML v1.0//EN
BEGIN:VEVENT
CLASS:PUBLIC
UID:e7252c7c319bf8989699968fff56d971@agenda.ad
DTSTAMP:20260422T042857Z
DTSTART:20190114T230000Z
DTEND:20190307T230000Z
SUMMARY:Exposici&oacute; "Albareda", d'Aleix Albareda
DESCRIPTION:Inauguració: 15 de gener, a les 20 h\n\nMés informac
 ió\nhttps://www.agenda.ad/activitat/encamp/exposicions/expo
 sicio-quattuor-d-aleix-albareda\n\n\nOrganitza\nComú d'Enca
 mp
LOCATION:Sala d'exposicions del Comú d'Encamp
SEQUENCE:0
TRANSP:OPAQUE
X-ALT-DESC;FMTTYPE=text/html:<!DOCTYPE HTML PUBLIC "-//W3C//DTD HTML 3.2//EN"><HTML><HEAD
 ><TITLE></TITLE></HEAD><BODY><FONT FACE="Arial" SIZE=2>Inaug
 uraci&oacute;: 15 de gener, a les 20 h<br/><br/><b>Més info
 rmació</b><br/><a href="https://www.agenda.ad/activitat/enc
 amp/exposicions/exposicio-quattuor-d-aleix-albareda">https:/
 /www.agenda.ad/activitat/encamp/exposicions/exposicio-quattu
 or-d-aleix-albareda</a><br/><br/><br/><b>Organitza</b><br/>C
 omú d'Encamp</FONT></BODY></HTML>
END:VEVENT
END:VCALENDAR