BEGIN:VCALENDAR
VERSION:2.0
METHOD:PUBLISH
PRODID:-//Agenda.ad//NONSGML v1.0//EN
BEGIN:VEVENT
CLASS:PUBLIC
UID:4a449f52faa1128404b3c9528cd9e8bd@agenda.ad
DTSTAMP:20260422T003616Z
DTSTART:20191014T220000Z
DTEND:20191014T220000Z
SUMMARY:<div>Xerrada i exposici&oacute; divulgativa sobre bolets</div>
DESCRIPTION:A càrrec de Manel Niell, investigador del CENMA.\n\nM
 és informació\nhttps://www.agenda.ad/activitat/encamp/expo
 sicions/xerrada-i-exposicio-divulgativa-sobre-bolets\n\n\nOr
 ganitza\nComú d'Encamp
LOCATION:Biblioteca Comunal d'Encamp
SEQUENCE:0
TRANSP:OPAQUE
X-ALT-DESC;FMTTYPE=text/html:<!DOCTYPE HTML PUBLIC "-//W3C//DTD HTML 3.2//EN"><HTML><HEAD
 ><TITLE></TITLE></HEAD><BODY><FONT FACE="Arial" SIZE=2><div 
 id="parent-fieldname-description" class="documentDescription
 ">A c&agrave;rrec de Manel Niell, investigador del CENMA.</d
 iv><br/><br/><b>Més informació</b><br/><a href="https://ww
 w.agenda.ad/activitat/encamp/exposicions/xerrada-i-exposicio
 -divulgativa-sobre-bolets">https://www.agenda.ad/activitat/e
 ncamp/exposicions/xerrada-i-exposicio-divulgativa-sobre-bole
 ts</a><br/><br/><br/><b>Organitza</b><br/>Comú d'Encamp</FO
 NT></BODY></HTML>
END:VEVENT
END:VCALENDAR