BEGIN:VCALENDAR
VERSION:2.0
METHOD:PUBLISH
PRODID:-//Agenda.ad//NONSGML v1.0//EN
BEGIN:VEVENT
CLASS:PUBLIC
UID:3f1a3c86a284b0817f36fe2d701ce282@agenda.ad
DTSTAMP:20191124T200203Z
DTSTART:20191130T230000Z
DTEND:20191223T230000Z
SUMMARY:<div>Calendari d'Advent 2019 a Encamp i al Pas de la Casa</div>
DESCRIPTION:\n\nMés informació\nhttps://www.agenda.ad/activitat/encamp
 /festes-i-tradicions/calendari-d-advent-2019-a-encamp-i-al-p
 as-de-la-casa\n\n\nOrganitza\nComú d'Encamp
LOCATION:Encamp i Pas de la Casa
SEQUENCE:0
TRANSP:OPAQUE
X-ALT-DESC;FMTTYPE=text/html:<!DOCTYPE HTML PUBLIC "-//W3C//DTD HTML 3.2//EN"><HTML><HEAD
 ><TITLE></TITLE></HEAD><BODY><FONT FACE="Arial" SIZE=2><br/>
 <br/><b>Més informació</b><br/><a href="https://www.agenda
 .ad/activitat/encamp/festes-i-tradicions/calendari-d-advent-
 2019-a-encamp-i-al-pas-de-la-casa">https://www.agenda.ad/act
 ivitat/encamp/festes-i-tradicions/calendari-d-advent-2019-a-
 encamp-i-al-pas-de-la-casa</a><br/><br/><br/><b>Organitza</b
 ><br/>Comú d'Encamp</FONT></BODY></HTML>
END:VEVENT
END:VCALENDAR