BEGIN:VCALENDAR
VERSION:2.0
METHOD:PUBLISH
PRODID:-//Agenda.ad//NONSGML v1.0//EN
BEGIN:VEVENT
CLASS:PUBLIC
UID:0d244a16a4de3fe700f7ce0461792bff@agenda.ad
DTSTAMP:20260424T074750Z
DTSTART:20200104T230000Z
DTEND:20200104T230000Z
SUMMARY:Cavalcada de Reis a Encamp 2020
DESCRIPTION:\n\nMés informació\nhttps://www.agenda.ad/activitat/encamp
 /festes-i-tradicions/cavalcada-de-reis-a-encamp-2020\n\n\nOr
 ganitza\nComú d'Encamp
LOCATION:Plaça dels Arínsols
SEQUENCE:0
TRANSP:OPAQUE
X-ALT-DESC;FMTTYPE=text/html:<!DOCTYPE HTML PUBLIC "-//W3C//DTD HTML 3.2//EN"><HTML><HEAD
 ><TITLE></TITLE></HEAD><BODY><FONT FACE="Arial" SIZE=2><br/>
 <br/><b>Més informació</b><br/><a href="https://www.agenda
 .ad/activitat/encamp/festes-i-tradicions/cavalcada-de-reis-a
 -encamp-2020">https://www.agenda.ad/activitat/encamp/festes-
 i-tradicions/cavalcada-de-reis-a-encamp-2020</a><br/><br/><b
 r/><b>Organitza</b><br/>Comú d'Encamp</FONT></BODY></HTML>
END:VEVENT
END:VCALENDAR