BEGIN:VCALENDAR
VERSION:2.0
METHOD:PUBLISH
PRODID:-//Agenda.ad//NONSGML v1.0//EN
BEGIN:VEVENT
CLASS:PUBLIC
UID:639300e8bd0fe178a2ec1415a6fa262f@agenda.ad
DTSTAMP:20260424T123012Z
DTSTART:20200104T230000Z
DTEND:20200104T230000Z
SUMMARY:<div>Cavalcada de Reis al Pas de la Casa 2020</div>
DESCRIPTION:\n\nMés informació\nhttps://www.agenda.ad/activitat/encamp
 /festes-i-tradicions/cavalcada-de-reis-al-pas-de-la-casa-202
 0\n\n\nOrganitza\nComú d'Encamp
LOCATION:Centre Esportiu del Pas de la Casa
SEQUENCE:0
TRANSP:OPAQUE
X-ALT-DESC;FMTTYPE=text/html:<!DOCTYPE HTML PUBLIC "-//W3C//DTD HTML 3.2//EN"><HTML><HEAD
 ><TITLE></TITLE></HEAD><BODY><FONT FACE="Arial" SIZE=2><br/>
 <br/><b>Més informació</b><br/><a href="https://www.agenda
 .ad/activitat/encamp/festes-i-tradicions/cavalcada-de-reis-a
 l-pas-de-la-casa-2020">https://www.agenda.ad/activitat/encam
 p/festes-i-tradicions/cavalcada-de-reis-al-pas-de-la-casa-20
 20</a><br/><br/><br/><b>Organitza</b><br/>Comú d'Encamp</FO
 NT></BODY></HTML>
END:VEVENT
END:VCALENDAR