BEGIN:VCALENDAR
VERSION:2.0
METHOD:PUBLISH
PRODID:-//Agenda.ad//NONSGML v1.0//EN
BEGIN:VEVENT
CLASS:PUBLIC
UID:9771f6a566b26e76cc316beed3e05a5d@agenda.ad
DTSTAMP:20191124T170154Z
DTSTART:20191223T230000Z
DTEND:20191223T230000Z
SUMMARY:<div>Cavalcada del Pare Noel al Pas de la Casa 2019</div>
DESCRIPTION:\n\nMés informació\nhttps://www.agenda.ad/activitat/encamp
 /festes-i-tradicions/cavalcada-del-pare-noel-al-pas-de-la-ca
 sa-2019\n\n\nOrganitza\nComú d'Encamp
LOCATION:Sala de festes del Pas de la Casa
SEQUENCE:0
TRANSP:OPAQUE
X-ALT-DESC;FMTTYPE=text/html:<!DOCTYPE HTML PUBLIC "-//W3C//DTD HTML 3.2//EN"><HTML><HEAD
 ><TITLE></TITLE></HEAD><BODY><FONT FACE="Arial" SIZE=2><br/>
 <br/><b>Més informació</b><br/><a href="https://www.agenda
 .ad/activitat/encamp/festes-i-tradicions/cavalcada-del-pare-
 noel-al-pas-de-la-casa-2019">https://www.agenda.ad/activitat
 /encamp/festes-i-tradicions/cavalcada-del-pare-noel-al-pas-d
 e-la-casa-2019</a><br/><br/><br/><b>Organitza</b><br/>Comú 
 d'Encamp</FONT></BODY></HTML>
END:VEVENT
END:VCALENDAR