BEGIN:VCALENDAR
VERSION:2.0
METHOD:PUBLISH
PRODID:-//Agenda.ad//NONSGML v1.0//EN
BEGIN:VEVENT
CLASS:PUBLIC
UID:af677ec88b15c250f0f8921657458497@agenda.ad
DTSTAMP:20260424T093112Z
DTSTART:20191206T230000Z
DTEND:20191206T230000Z
SUMMARY:<div>Mercat de Nadal 2019</div>
DESCRIPTION:A càrrec de l'Associació d'Empreses d'Encamp i
  amb la col·laboració del Comú d'Encamp
 .\n\nMés informació\nhttps://www.agenda.ad/activitat/encam
 p/festes-i-tradicions/mercat-de-nadal-2019\n
LOCATION:Plaça Sant Miquel
SEQUENCE:0
TRANSP:OPAQUE
X-ALT-DESC;FMTTYPE=text/html:<!DOCTYPE HTML PUBLIC "-//W3C//DTD HTML 3.2//EN"><HTML><HEAD
 ><TITLE></TITLE></HEAD><BODY><FONT FACE="Arial" SIZE=2><div 
 id="parent-fieldname-description" class="documentDescription
 ">A c&agrave;rrec de l'Associaci&oacute; d'Empreses d'Encamp
  i amb la col&middot;laboraci&oacute; del Com&uacute; d'Enca
 mp.</div><br/><br/><b>Més informació</b><br/><a href="http
 s://www.agenda.ad/activitat/encamp/festes-i-tradicions/merca
 t-de-nadal-2019">https://www.agenda.ad/activitat/encamp/fest
 es-i-tradicions/mercat-de-nadal-2019</a><br/></FONT></BODY><
 /HTML>
END:VEVENT
END:VCALENDAR