BEGIN:VCALENDAR
VERSION:2.0
METHOD:PUBLISH
PRODID:-//Agenda.ad//NONSGML v1.0//EN
BEGIN:VEVENT
CLASS:PUBLIC
UID:c7ecffcaa58813a873c00275d9b4ed93@agenda.ad
DTSTAMP:20260424T032746Z
DTSTART:20191223T230000Z
DTEND:20191223T230000Z
SUMMARY:Missa del Gall al Pas de la Casa
DESCRIPTION:\n\nMés informació\nhttps://www.agenda.ad/activitat/encamp
 /festes-i-tradicions/missa-del-gall-al-pas-de-la-casa-11430\
 n\n\nOrganitza\nComú d'Encamp
LOCATION:Església de Sant Pere del Pas de la Casa
SEQUENCE:0
TRANSP:OPAQUE
X-ALT-DESC;FMTTYPE=text/html:<!DOCTYPE HTML PUBLIC "-//W3C//DTD HTML 3.2//EN"><HTML><HEAD
 ><TITLE></TITLE></HEAD><BODY><FONT FACE="Arial" SIZE=2><br/>
 <br/><b>Més informació</b><br/><a href="https://www.agenda
 .ad/activitat/encamp/festes-i-tradicions/missa-del-gall-al-p
 as-de-la-casa-11430">https://www.agenda.ad/activitat/encamp/
 festes-i-tradicions/missa-del-gall-al-pas-de-la-casa-11430</
 a><br/><br/><br/><b>Organitza</b><br/>Comú d'Encamp</FONT><
 /BODY></HTML>
END:VEVENT
END:VCALENDAR