BEGIN:VCALENDAR
VERSION:2.0
METHOD:PUBLISH
PRODID:-//Agenda.ad//NONSGML v1.0//EN
BEGIN:VEVENT
CLASS:PUBLIC
UID:81e53bab93c1b0637ade963c1b2482ed@agenda.ad
DTSTAMP:20260424T092847Z
DTSTART:20191216T230000Z
DTEND:20191216T230000Z
SUMMARY:<div>Presentaci&oacute; del llibre "Encamp, una hist&ograve;ria particular", a Encamp</div>
DESCRIPTION:Amb textos de Francesc Rodríguez Rossa i editat pel C
 omú d'Encamp.\n\nMés informació\nhttps://www.agenda
 .ad/activitat/encamp/lletres/presentacio-del-llibre-encamp-u
 na-historia-particular-a-encamp\n\n\nOrganitza\nComú d'Enca
 mp
LOCATION:Sala d'exposicions del Comú d'Encamp
SEQUENCE:0
TRANSP:OPAQUE
X-ALT-DESC;FMTTYPE=text/html:<!DOCTYPE HTML PUBLIC "-//W3C//DTD HTML 3.2//EN"><HTML><HEAD
 ><TITLE></TITLE></HEAD><BODY><FONT FACE="Arial" SIZE=2><div 
 id="parent-fieldname-description" class="documentDescription
 ">Amb textos de Francesc Rodr&iacute;guez Rossa i editat pel
  Com&uacute; d'Encamp.</div><br/><br/><b>Més informació</b
 ><br/><a href="https://www.agenda.ad/activitat/encamp/lletre
 s/presentacio-del-llibre-encamp-una-historia-particular-a-en
 camp">https://www.agenda.ad/activitat/encamp/lletres/present
 acio-del-llibre-encamp-una-historia-particular-a-encamp</a><
 br/><br/><br/><b>Organitza</b><br/>Comú d'Encamp</FONT></BO
 DY></HTML>
END:VEVENT
END:VCALENDAR