BEGIN:VCALENDAR
VERSION:2.0
METHOD:PUBLISH
PRODID:-//Agenda.ad//NONSGML v1.0//EN
BEGIN:VEVENT
CLASS:PUBLIC
UID:5a22feebe8f696c08fbdbe3c8e9f561f@agenda.ad
DTSTAMP:20260424T081600Z
DTSTART:20191218T230000Z
DTEND:20191218T230000Z
SUMMARY:<div>Presentaci&oacute; del llibre "Sombreros prestados", al Pas de la Casa</div>
DESCRIPTION:A càrrec del seu autor, Padro Durini.\n\nMés informa
 ció\nhttps://www.agenda.ad/activitat/encamp/lletres/present
 acio-del-llibre-sombreros-prestados-al-pas-de-la-casa\n\n\nO
 rganitza\nComú d'Encamp
LOCATION:Biblioteca Comunal del Pas de la Casa
SEQUENCE:0
TRANSP:OPAQUE
X-ALT-DESC;FMTTYPE=text/html:<!DOCTYPE HTML PUBLIC "-//W3C//DTD HTML 3.2//EN"><HTML><HEAD
 ><TITLE></TITLE></HEAD><BODY><FONT FACE="Arial" SIZE=2><div 
 id="parent-fieldname-description" class="documentDescription
 ">A c&agrave;rrec del seu autor, Padro Durini.</div><br/><br
 /><b>Més informació</b><br/><a href="https://www.agenda.ad
 /activitat/encamp/lletres/presentacio-del-llibre-sombreros-p
 restados-al-pas-de-la-casa">https://www.agenda.ad/activitat/
 encamp/lletres/presentacio-del-llibre-sombreros-prestados-al
 -pas-de-la-casa</a><br/><br/><br/><b>Organitza</b><br/>Comú
  d'Encamp</FONT></BODY></HTML>
END:VEVENT
END:VCALENDAR