BEGIN:VCALENDAR
VERSION:2.0
METHOD:PUBLISH
PRODID:-//Agenda.ad//NONSGML v1.0//EN
BEGIN:VEVENT
CLASS:PUBLIC
UID:a94a6bfefbf47cc923be65cf6294a7e3@agenda.ad
DTSTAMP:20260422T043313Z
DTSTART:20190207T230000Z
DTEND:20190209T230000Z
SUMMARY:<div style="float: left; width: 600px;">Concurs d'escultures de neu 2019, al Pas de la Casa</div>
DESCRIPTION:\n\nMés informació\nhttps://www.agenda.ad/activitat/encamp
 /mes-cultura/concurs-d-escultures-de-neu-2019-al-pas-de-la-c
 asa\n\n\nOrganitza\nComú d'Encamp
LOCATION:Plaça de l'Església de Sant Pere
SEQUENCE:0
TRANSP:OPAQUE
X-ALT-DESC;FMTTYPE=text/html:<!DOCTYPE HTML PUBLIC "-//W3C//DTD HTML 3.2//EN"><HTML><HEAD
 ><TITLE></TITLE></HEAD><BODY><FONT FACE="Arial" SIZE=2><br/>
 <br/><b>Més informació</b><br/><a href="https://www.agenda
 .ad/activitat/encamp/mes-cultura/concurs-d-escultures-de-neu
 -2019-al-pas-de-la-casa">https://www.agenda.ad/activitat/enc
 amp/mes-cultura/concurs-d-escultures-de-neu-2019-al-pas-de-l
 a-casa</a><br/><br/><br/><b>Organitza</b><br/>Comú d'Encamp
 </FONT></BODY></HTML>
END:VEVENT
END:VCALENDAR