BEGIN:VCALENDAR
VERSION:2.0
METHOD:PUBLISH
PRODID:-//Agenda.ad//NONSGML v1.0//EN
BEGIN:VEVENT
CLASS:PUBLIC
UID:8743f4130c17a2f05097ffa13194477d@agenda.ad
DTSTAMP:20260424T095433Z
DTSTART:20191209T230000Z
DTEND:20191209T230000Z
SUMMARY:<div>Obertes les inscripcions per al dinar de Nadal per a la gent gran de la parr&ograve;quia d'Encamp</div>
DESCRIPTION:Inscripcions fins al 4 de desembre al Departament de Socials
 .\n\nMés informació\nhttps://www.agenda.ad/activitat/encam
 p/mes-cultura/obertes-les-inscripcions-per-al-dinar-de-nadal
 -per-a-la-gent-gran-de-la-parroquia-d-encamp\n\n\nOrganitza\
 nComú d'Encamp
LOCATION:Hotel Guillem
SEQUENCE:0
TRANSP:OPAQUE
X-ALT-DESC;FMTTYPE=text/html:<!DOCTYPE HTML PUBLIC "-//W3C//DTD HTML 3.2//EN"><HTML><HEAD
 ><TITLE></TITLE></HEAD><BODY><FONT FACE="Arial" SIZE=2><div 
 id="parent-fieldname-description" class="documentDescription
 ">Inscripcions fins al 4 de desembre al Departament de Socia
 ls.</div><br/><br/><b>Més informació</b><br/><a href="http
 s://www.agenda.ad/activitat/encamp/mes-cultura/obertes-les-i
 nscripcions-per-al-dinar-de-nadal-per-a-la-gent-gran-de-la-p
 arroquia-d-encamp">https://www.agenda.ad/activitat/encamp/me
 s-cultura/obertes-les-inscripcions-per-al-dinar-de-nadal-per
 -a-la-gent-gran-de-la-parroquia-d-encamp</a><br/><br/><br/><
 b>Organitza</b><br/>Comú d'Encamp</FONT></BODY></HTML>
END:VEVENT
END:VCALENDAR