BEGIN:VCALENDAR
VERSION:2.0
METHOD:PUBLISH
PRODID:-//Agenda.ad//NONSGML v1.0//EN
BEGIN:VEVENT
CLASS:PUBLIC
UID:242d907978a4e68a9652ab2f986c0dae@agenda.ad
DTSTAMP:20260424T092847Z
DTSTART:20191216T230000Z
DTEND:20191216T230000Z
SUMMARY:<p>'Un munt d&rsquo;hist&ograve;ries per als petits lectors...'</p>
DESCRIPTION:\n\nMés informació\nhttps://www.agenda.ad/activitat/escald
 es-engordany/activitats-infantils/un-munt-dhistories-pels-
 petits-lectors”-11111\n\n\nOrganitza\nComú d'Escaldes-En
 gordany
LOCATION:Biblioteca Comunal d'Escaldes-Engordany
SEQUENCE:0
TRANSP:OPAQUE
X-ALT-DESC;FMTTYPE=text/html:<!DOCTYPE HTML PUBLIC "-//W3C//DTD HTML 3.2//EN"><HTML><HEAD
 ><TITLE></TITLE></HEAD><BODY><FONT FACE="Arial" SIZE=2><br/>
 <br/><b>Més informació</b><br/><a href="https://www.agenda
 .ad/activitat/escaldes-engordany/activitats-infantils/un-mun
 t-dhistories-pels-“petits-lectors”-11111">https://www.ag
 enda.ad/activitat/escaldes-engordany/activitats-infantils/un
 -munt-dhistories-pels-“petits-lectors”-11111</a><br/><br
 /><br/><b>Organitza</b><br/>Comú d'Escaldes-Engordany</FONT
 ></BODY></HTML>
END:VEVENT
END:VCALENDAR