BEGIN:VCALENDAR
VERSION:2.0
METHOD:PUBLISH
PRODID:-//Agenda.ad//NONSGML v1.0//EN
BEGIN:VEVENT
CLASS:PUBLIC
UID:c3c85625d559afdcf6cdbe738bdf5337@agenda.ad
DTSTAMP:20260422T004145Z
DTSTART:20191016T220000Z
DTEND:20191016T220000Z
SUMMARY:<p>'LA COM&Eacute;DIE-FRAN&Ccedil;AISE AU CIN&Eacute;MA' &middot; Saison Culturelle</p>
DESCRIPTION:\n\nMés informació\nhttps://www.agenda.ad/activitat/escald
 es-engordany/cinema/-la-comedie-francaise-au-cinema-saison-c
 ulturelle\n\n\nOrganitza\nAmbaixada de França a Andorra
LOCATION:Cinemes Illa Carlemany
SEQUENCE:0
TRANSP:OPAQUE
X-ALT-DESC;FMTTYPE=text/html:<!DOCTYPE HTML PUBLIC "-//W3C//DTD HTML 3.2//EN"><HTML><HEAD
 ><TITLE></TITLE></HEAD><BODY><FONT FACE="Arial" SIZE=2><br/>
 <br/><b>Més informació</b><br/><a href="https://www.agenda
 .ad/activitat/escaldes-engordany/cinema/-la-comedie-francais
 e-au-cinema-saison-culturelle">https://www.agenda.ad/activit
 at/escaldes-engordany/cinema/-la-comedie-francaise-au-cinema
 -saison-culturelle</a><br/><br/><br/><b>Organitza</b><br/>Am
 baixada de França a Andorra</FONT></BODY></HTML>
END:VEVENT
END:VCALENDAR